BEGIN:VCALENDAR
VERSION:2.0
PRODID:-//IDA - ECPv6.15.20//NONSGML v1.0//EN
CALSCALE:GREGORIAN
METHOD:PUBLISH
X-ORIGINAL-URL:https://idaconnectus.com
X-WR-CALDESC:Events for IDA
REFRESH-INTERVAL;VALUE=DURATION:PT1H
X-Robots-Tag:noindex
X-PUBLISHED-TTL:PT1H
BEGIN:VTIMEZONE
TZID:UTC
BEGIN:STANDARD
TZOFFSETFROM:+0000
TZOFFSETTO:+0000
TZNAME:UTC
DTSTART:20190101T000000
END:STANDARD
END:VTIMEZONE
BEGIN:VTIMEZONE
TZID:Atlantic/Azores
BEGIN:DAYLIGHT
TZOFFSETFROM:-0100
TZOFFSETTO:+0000
TZNAME:+00
DTSTART:20190331T010000
END:DAYLIGHT
BEGIN:STANDARD
TZOFFSETFROM:+0000
TZOFFSETTO:-0100
TZNAME:-01
DTSTART:20191027T010000
END:STANDARD
BEGIN:DAYLIGHT
TZOFFSETFROM:-0100
TZOFFSETTO:+0000
TZNAME:+00
DTSTART:20200329T010000
END:DAYLIGHT
BEGIN:STANDARD
TZOFFSETFROM:+0000
TZOFFSETTO:-0100
TZNAME:-01
DTSTART:20201025T010000
END:STANDARD
BEGIN:DAYLIGHT
TZOFFSETFROM:-0100
TZOFFSETTO:+0000
TZNAME:+00
DTSTART:20210328T010000
END:DAYLIGHT
BEGIN:STANDARD
TZOFFSETFROM:+0000
TZOFFSETTO:-0100
TZNAME:-01
DTSTART:20211031T010000
END:STANDARD
END:VTIMEZONE
BEGIN:VTIMEZONE
TZID:America/New_York
BEGIN:DAYLIGHT
TZOFFSETFROM:-0500
TZOFFSETTO:-0400
TZNAME:EDT
DTSTART:20190310T070000
END:DAYLIGHT
BEGIN:STANDARD
TZOFFSETFROM:-0400
TZOFFSETTO:-0500
TZNAME:EST
DTSTART:20191103T060000
END:STANDARD
BEGIN:DAYLIGHT
TZOFFSETFROM:-0500
TZOFFSETTO:-0400
TZNAME:EDT
DTSTART:20200308T070000
END:DAYLIGHT
BEGIN:STANDARD
TZOFFSETFROM:-0400
TZOFFSETTO:-0500
TZNAME:EST
DTSTART:20201101T060000
END:STANDARD
BEGIN:DAYLIGHT
TZOFFSETFROM:-0500
TZOFFSETTO:-0400
TZNAME:EDT
DTSTART:20210314T070000
END:DAYLIGHT
BEGIN:STANDARD
TZOFFSETFROM:-0400
TZOFFSETTO:-0500
TZNAME:EST
DTSTART:20211107T060000
END:STANDARD
END:VTIMEZONE
BEGIN:VEVENT
DTSTART;TZID=UTC:20200624T170000
DTEND;TZID=UTC:20200624T183000
DTSTAMP:20260423T194243
CREATED:20200618T070413Z
LAST-MODIFIED:20200618T071227Z
UID:19435-1593018000-1593023400@idaconnectus.com
SUMMARY:3 Generaciones de Arquitectos\, un solo tiempo.
DESCRIPTION:Encuentro Virtual\n\n\n\nZoom Meeting\n\n\n\n ID: 620 536 4800 Pass: 260527
URL:https://idaconnectus.com/event/3-generaciones-de-arquitectos-un-solo-tiempo/
CATEGORIES:Encounters
ATTACH;FMTTYPE=image/jpeg:https://idaconnectus.com/wp-content/uploads/2020/06/24juniomeeting.jpeg
ORGANIZER;CN="IDA":MAILTO:info@idaconnectus.com
END:VEVENT
BEGIN:VEVENT
DTSTART;TZID=UTC:20200521T170000
DTEND;TZID=UTC:20200521T180000
DTSTAMP:20260423T194243
CREATED:20200520T192028Z
LAST-MODIFIED:20200520T192302Z
UID:19401-1590080400-1590084000@idaconnectus.com
SUMMARY:¿Quién Dijo Miedo?
DESCRIPTION:El regreso a la normalidad\, manejo de las emociones en el proceso de recuperación de las actividades. \n\n\n\nEncuentro Virtual por Zoom \n\n\n\n\n\nDora Gabay / Roberto Lezpinasse / Efraín Hoffman
URL:https://idaconnectus.com/event/quien-dijo-miedo/
CATEGORIES:Encounters
ATTACH;FMTTYPE=image/jpeg:https://idaconnectus.com/wp-content/uploads/2020/05/evento20Mayo.jpeg
ORGANIZER;CN="IDA":MAILTO:info@idaconnectus.com
END:VEVENT
BEGIN:VEVENT
DTSTART;TZID=Atlantic/Azores:20200311T190000
DTEND;TZID=Atlantic/Azores:20200311T210000
DTSTAMP:20260423T194243
CREATED:20200310T065242Z
LAST-MODIFIED:20200310T065417Z
UID:17170-1583953200-1583960400@idaconnectus.com
SUMMARY:WALKABOUT - Workshop & Exibition
DESCRIPTION:Opening reception\n\n\n\n\nIsaac BencidJimena Gutierres GratteriMale LeónMarianela HollyMilixa MorónRafa MuciReily Pérez-ÑommTere Jessurum UribeVero Murphy
URL:https://idaconnectus.com/event/walkabout-workshop-exibition/
LOCATION:MIFA Miami International Fine Arts\, MIFA Miami International Fine Arts 5900 NW 74th Ave\, Medley\, FL\, 33166\, United States
CATEGORIES:Encounters,Exhibition
ATTACH;FMTTYPE=image/jpeg:https://idaconnectus.com/wp-content/uploads/2020/03/walkabout.jpeg
END:VEVENT
BEGIN:VEVENT
DTSTART;TZID=Atlantic/Azores:20200227T190000
DTEND;TZID=Atlantic/Azores:20200227T200000
DTSTAMP:20260423T194243
CREATED:20200207T013928Z
LAST-MODIFIED:20200304T203700Z
UID:15882-1582830000-1582833600@idaconnectus.com
SUMMARY:Looking at Paintings with Mona Lisa
DESCRIPTION:Miami International Fine Arts Da Vinci Lecture
URL:https://idaconnectus.com/event/looking-at-painting-with-mona-lisa/
LOCATION:MIFA Miami International Fine Arts\, MIFA Miami International Fine Arts 5900 NW 74th Ave\, Medley\, FL\, 33166\, United States
CATEGORIES:Art,Encounters
ATTACH;FMTTYPE=image/jpeg:https://idaconnectus.com/wp-content/uploads/2020/02/IMG-20200205-WA0008.jpg
END:VEVENT
BEGIN:VEVENT
DTSTART;TZID=America/New_York:20200225T190000
DTEND;TZID=America/New_York:20200225T190000
DTSTAMP:20260423T194243
CREATED:20200220T185129Z
LAST-MODIFIED:20200220T185314Z
UID:16310-1582657200-1582657200@idaconnectus.com
SUMMARY:Es Hora de Reprogramar La Vida
DESCRIPTION:Conference
URL:https://idaconnectus.com/event/es-hora-de-reprogramar-la-vida/
LOCATION:MIFA Miami International Fine Arts\, MIFA Miami International Fine Arts 5900 NW 74th Ave\, Medley\, FL\, 33166\, United States
CATEGORIES:Encounters
ATTACH;FMTTYPE=image/jpeg:https://idaconnectus.com/wp-content/uploads/2020/02/ida_juan_diego.jpeg
END:VEVENT
BEGIN:VEVENT
DTSTART;TZID=America/New_York:20200123T180000
DTEND;TZID=America/New_York:20200123T210000
DTSTAMP:20260423T194243
CREATED:20200118T002426Z
LAST-MODIFIED:20200124T031409Z
UID:14941-1579802400-1579813200@idaconnectus.com
SUMMARY:1st CREATIVE ENCOUNTER 2020
DESCRIPTION:The Interamerican Designers Association has the pleasure of inviting to the 1st 2020 CREATIVE ENCOUNTER. \n\nArchitects\nDesigners\nUrban Planners\nArtist of all disciplines\n\n\n\n\n\n\n\n\n\n\n\n\n\n\n\n\nTwitter\n\n\nPinterest\n\n\nFacebook
URL:https://idaconnectus.com/event/1st-creative-encounter-2020/
LOCATION:MIFA Miami International Fine Arts\, MIFA Miami International Fine Arts 5900 NW 74th Ave\, Medley\, FL\, 33166\, United States
CATEGORIES:Encounters
ATTACH;FMTTYPE=image/jpeg:https://idaconnectus.com/wp-content/uploads/2020/01/evento_inauguracion.jpg
ORGANIZER;CN="IDA":MAILTO:info@idaconnectus.com
END:VEVENT
END:VCALENDAR